BEGIN:VCALENDAR
VERSION:2.0
PRODID:-//Northwest Obedience Club - ECPv6.15.20//NONSGML v1.0//EN
CALSCALE:GREGORIAN
METHOD:PUBLISH
X-WR-CALNAME:Northwest Obedience Club
X-ORIGINAL-URL:https://northwestobedienceclub.org
X-WR-CALDESC:Events for Northwest Obedience Club
REFRESH-INTERVAL;VALUE=DURATION:PT1H
X-Robots-Tag:noindex
X-PUBLISHED-TTL:PT1H
BEGIN:VTIMEZONE
TZID:UTC
BEGIN:STANDARD
TZOFFSETFROM:+0000
TZOFFSETTO:+0000
TZNAME:UTC
DTSTART:20250101T000000
END:STANDARD
END:VTIMEZONE
BEGIN:VEVENT
DTSTART;VALUE=DATE:20260322
DTEND;VALUE=DATE:20260323
DTSTAMP:20260423T160341
CREATED:20260131T000425Z
LAST-MODIFIED:20260131T000439Z
UID:11268-1774137600-1774223999@northwestobedienceclub.org
SUMMARY:NOCI 2026 Banquet
DESCRIPTION:We will be having out Banquet March 22 \nWatch this space for more information
URL:https://northwestobedienceclub.org/event/11268/
LOCATION:IL
END:VEVENT
END:VCALENDAR