BEGIN:VCALENDAR
VERSION:2.0
PRODID:-//Northwest Obedience Club - ECPv6.15.20//NONSGML v1.0//EN
CALSCALE:GREGORIAN
METHOD:PUBLISH
X-WR-CALNAME:Northwest Obedience Club
X-ORIGINAL-URL:https://northwestobedienceclub.org
X-WR-CALDESC:Events for Northwest Obedience Club
REFRESH-INTERVAL;VALUE=DURATION:PT1H
X-Robots-Tag:noindex
X-PUBLISHED-TTL:PT1H
BEGIN:VTIMEZONE
TZID:UTC
BEGIN:STANDARD
TZOFFSETFROM:+0000
TZOFFSETTO:+0000
TZNAME:UTC
DTSTART:20250101T000000
END:STANDARD
END:VTIMEZONE
BEGIN:VEVENT
DTSTART;TZID=UTC:20260425T080000
DTEND;TZID=UTC:20260426T170000
DTSTAMP:20260423T095641
CREATED:20260113T201607Z
LAST-MODIFIED:20260131T000212Z
UID:11133-1777104000-1777222800@northwestobedienceclub.org
SUMMARY:NOCI Barn Hunt Trial April 2026
DESCRIPTION:Click to Download Premium  \nNOCI-BHA-April-Premium-2026
URL:https://northwestobedienceclub.org/event/noci-barn-hunt-trial/
LOCATION:For Your K9\, 706 N. Industrial Dr\, Elmhurst\, IL\, 60126\, United States
ORGANIZER;CN="Yvonne Smith":MAILTO:Ksmith6@att.net
END:VEVENT
BEGIN:VEVENT
DTSTART;VALUE=DATE:20260503
DTEND;VALUE=DATE:20260504
DTSTAMP:20260423T095641
CREATED:20260130T235625Z
LAST-MODIFIED:20260131T001337Z
UID:11258-1777766400-1777852799@northwestobedienceclub.org
SUMMARY:Flying Paws Dog Training May 2026
DESCRIPTION:Flying Paws Dog Training\nWCRL Licensed Event #804674\nMay 3\, 2026\n2 Trials – – All Levels\nHost and Location\nFlying Paws Dog Training\nNorthwest Obedience Club\, Inc.\n110 W. Woodstock\, Ste #2A\nCrystal Lake\, IL 60014\nYvonne Smith/Trial Secretary\nKsmith6@att.net – 847-428-2923\n\n\n\nEntries Open as soon as premium is published. \nEntries submitted via FedEx or Express Mail will be \naccepted only if the signature waiver is signed. No \ntelephone\, email\, or fax entries will be accepted. \nClosing Date April 25\, 2026 – 6:00 p.m. \nEntries must be received no later than April 25\, 2026 for \nspecial pre-entry discounts. If the trial is not full\, day of \nshow entries will be accepted.\n\n\n\nOnline Registration and Payment\nRegister online at CheddarUp\nTransaction fees will be charged for online payment/registration.\nCredit/debit: $0.95+3.59%. $1.77 fee on entry of $23 paid by credit/debit.\nChoose eCheck for lowest fees ($0.95).\nHand deliver/mail payment for no fees. \nThere will be no refunds for entries pulled after April 25\, 2026.\nSame day move-ups will be allowed between trials in Class\, i.e. A to B and levels. \nLimited to 55 runs per trial \nClick Here to download Premium
URL:https://northwestobedienceclub.org/event/11258/
LOCATION:Northwest Obedience Club\, 110 W. Woodstock Street\, Suite 2A\, Crystal Lake\, IL\, 60014\, United States
ORGANIZER;CN="Yvonne Smith":MAILTO:Ksmith6@att.net
END:VEVENT
BEGIN:VEVENT
DTSTART;VALUE=DATE:20260517
DTEND;VALUE=DATE:20260518
DTSTAMP:20260423T095641
CREATED:20260131T001807Z
LAST-MODIFIED:20260131T001807Z
UID:11280-1778976000-1779062399@northwestobedienceclub.org
SUMMARY:Intro to Rally Seminar May 17 2026
DESCRIPTION:Intro to Rally Seminar\n– More details will be forth coming.  We are in discussions about an upper level Rally seminar later in the year.
URL:https://northwestobedienceclub.org/event/intro-to-rally-seminar-may-17-2026/
LOCATION:Northwest Obedience Club\, 110 W. Woodstock Street\, Suite 2A\, Crystal Lake\, IL\, 60014\, United States
ORGANIZER;CN="Yvonne Smith":MAILTO:Ksmith6@att.net
END:VEVENT
BEGIN:VEVENT
DTSTART;VALUE=DATE:20260717
DTEND;VALUE=DATE:20260718
DTSTAMP:20260423T095641
CREATED:20260131T002135Z
LAST-MODIFIED:20260131T002135Z
UID:11282-1784246400-1784332799@northwestobedienceclub.org
SUMMARY:New Rally Fun Match (UKC Venue) July 2026
DESCRIPTION:New Rally Fun Match (UKC Venue) \nJuly 17th\, 2026 \n– More details will be forth coming
URL:https://northwestobedienceclub.org/event/new-rally-fun-match-ukc-venue-july-2026/
LOCATION:Northwest Obedience Club\, 110 W. Woodstock Street\, Suite 2A\, Crystal Lake\, IL\, 60014\, United States
ORGANIZER;CN="Yvonne Smith":MAILTO:Ksmith6@att.net
END:VEVENT
BEGIN:VEVENT
DTSTART;VALUE=DATE:20260718
DTEND;VALUE=DATE:20260720
DTSTAMP:20260423T095641
CREATED:20260131T002339Z
LAST-MODIFIED:20260131T002424Z
UID:11285-1784332800-1784505599@northwestobedienceclub.org
SUMMARY:NOCI Barn Hunt Trial July 18 & 19\, 2026
DESCRIPTION:Barn Hunt in Elmhurst\nJuly 18 & 19\, 2026\nMore details will be forth coming
URL:https://northwestobedienceclub.org/event/noci-barn-hunt-trial-july-18-19-2026/
LOCATION:IL
ORGANIZER;CN="Yvonne Smith":MAILTO:Ksmith6@att.net
END:VEVENT
END:VCALENDAR