BEGIN:VCALENDAR
VERSION:2.0
PRODID:-//Northwest Obedience Club - ECPv6.15.20//NONSGML v1.0//EN
CALSCALE:GREGORIAN
METHOD:PUBLISH
X-ORIGINAL-URL:https://northwestobedienceclub.org
X-WR-CALDESC:Events for Northwest Obedience Club
REFRESH-INTERVAL;VALUE=DURATION:PT1H
X-Robots-Tag:noindex
X-PUBLISHED-TTL:PT1H
BEGIN:VTIMEZONE
TZID:UTC
BEGIN:STANDARD
TZOFFSETFROM:+0000
TZOFFSETTO:+0000
TZNAME:UTC
DTSTART:20250101T000000
END:STANDARD
END:VTIMEZONE
BEGIN:VEVENT
DTSTART;TZID=UTC:20260206T183000
DTEND;TZID=UTC:20260206T220000
DTSTAMP:20260423T202252
CREATED:20240928T205556Z
LAST-MODIFIED:20260131T000957Z
UID:10164-1770402600-1770415200@northwestobedienceclub.org
SUMMARY:February Fun Match 2025
DESCRIPTION:For More information go to Fun Match Program
URL:https://northwestobedienceclub.org/event/december-fun-match-2025/
LOCATION:Northwest Obedience Club\, 110 W. Woodstock Street\, Suite 2A\, Crystal Lake\, IL\, 60014\, United States
CATEGORIES:Fun Match,NOCI
ORGANIZER;CN="Shawn Hacker":MAILTO:mutts2champs@gmail.com
END:VEVENT
END:VCALENDAR